BEGIN:VCALENDAR
VERSION:2.0
PRODID:-//Ondernemend Hattem - ECPv6.15.20//NONSGML v1.0//EN
CALSCALE:GREGORIAN
METHOD:PUBLISH
X-WR-CALNAME:Ondernemend Hattem
X-ORIGINAL-URL:https://ondernemendhattem.nl
X-WR-CALDESC:Evenementen voor Ondernemend Hattem
REFRESH-INTERVAL;VALUE=DURATION:PT1H
X-Robots-Tag:noindex
X-PUBLISHED-TTL:PT1H
BEGIN:VTIMEZONE
TZID:Europe/Amsterdam
BEGIN:DAYLIGHT
TZOFFSETFROM:+0100
TZOFFSETTO:+0200
TZNAME:CEST
DTSTART:20250330T010000
END:DAYLIGHT
BEGIN:STANDARD
TZOFFSETFROM:+0200
TZOFFSETTO:+0100
TZNAME:CET
DTSTART:20251026T010000
END:STANDARD
BEGIN:DAYLIGHT
TZOFFSETFROM:+0100
TZOFFSETTO:+0200
TZNAME:CEST
DTSTART:20260329T010000
END:DAYLIGHT
BEGIN:STANDARD
TZOFFSETFROM:+0200
TZOFFSETTO:+0100
TZNAME:CET
DTSTART:20261025T010000
END:STANDARD
BEGIN:DAYLIGHT
TZOFFSETFROM:+0100
TZOFFSETTO:+0200
TZNAME:CEST
DTSTART:20270328T010000
END:DAYLIGHT
BEGIN:STANDARD
TZOFFSETFROM:+0200
TZOFFSETTO:+0100
TZNAME:CET
DTSTART:20271031T010000
END:STANDARD
END:VTIMEZONE
BEGIN:VEVENT
DTSTART;TZID=Europe/Amsterdam:20260508T160000
DTEND;TZID=Europe/Amsterdam:20260508T180000
DTSTAMP:20260419T153241
CREATED:20260202T101514Z
LAST-MODIFIED:20260202T101514Z
UID:2221-1778256000-1778263200@ondernemendhattem.nl
SUMMARY:VrijMiBo 8 mei
DESCRIPTION:De beste manier om de werkweek af te sluiten: onze vrijdagmiddagborrel! \nWe zijn weer welkom bij Sec Marché waar je vrijblijvend binnen kan komen lopen. Je wordt voorzien van een (of meerdere) drankje(s) met een lekker hapje erbij. En ….. Ondernemend Hattem betaalt! \nZien we je daar? \nAanmelden kan\, maar hoeft dus niet. Tot dan!  \nLet op: aanmelden kan nu via onze Ondernemend Hattem app . Heb je deze nog niet? Zie hier voor meer informatie. \nVRIJMIBO 🍷 \nDatum: Vrijdag 8 mei\nTijd: 16.00 – 18:00 uur\nLocatie: Sec Marché\, Ridderstraat 13\, Hattem
URL:https://ondernemendhattem.nl/agenda/vrijmibo-8-mei/
LOCATION:Sec Marché\, Ridderstraat 13\, Hattem\, 8051EG\, Netherlands
ATTACH;FMTTYPE=image/png:https://ondernemendhattem.nl/wp-content/uploads/2026/02/vrimibo_Tekengebied-1-01-scaled.png
ORGANIZER;CN="Ondernemend Hattem":MAILTO:info@ondernemendhattem.nl
END:VEVENT
BEGIN:VEVENT
DTSTART;TZID=Europe/Amsterdam:20260605T070000
DTEND;TZID=Europe/Amsterdam:20260605T090000
DTSTAMP:20260419T153241
CREATED:20260313T101828Z
LAST-MODIFIED:20260313T101828Z
UID:2264-1780642800-1780650000@ondernemendhattem.nl
SUMMARY:Ontbijtbijeenkomst 5 juni
DESCRIPTION:Graag nodigen we jullie uit voor het volgende netwerkontbijt!  \nONTBIJTBIJEENKOMST ☕️ \nDatum: Vrijdag 5 juni\nTijd: 07.00 – 09:00 uur\nLocatie: Vadesto ( De Bleek 3\, Hattem ) \nLet op: aanmelden kan nu via onze Ondernemend Hattem app .\nHeb je deze nog niet? Zie hier voor meer informatie. \n\nAankomende evenementen: \nVrijdag 19 juni – Afsluiting voor de zomervakantie\nWoensdag 30 september – Pitch & Putt met BKO en BCH\nDonderdag 19 november – Ondernemersavond 2026 \n 
URL:https://ondernemendhattem.nl/agenda/ontbijtbijeenkomst-5-juni/
LOCATION:Vadesto\, De Bleek 3\, Hattem\, Gelderland\, Netherlands
ATTACH;FMTTYPE=image/png:https://ondernemendhattem.nl/wp-content/uploads/2026/02/ontbijtsessie2026-scaled.png
ORGANIZER;CN="Ondernemend Hattem":MAILTO:info@ondernemendhattem.nl
END:VEVENT
END:VCALENDAR