BEGIN:VCALENDAR
VERSION:2.0
PRODID:-//Ondernemend Hattem - ECPv6.15.20//NONSGML v1.0//EN
CALSCALE:GREGORIAN
METHOD:PUBLISH
X-WR-CALNAME:Ondernemend Hattem
X-ORIGINAL-URL:https://ondernemendhattem.nl
X-WR-CALDESC:Evenementen voor Ondernemend Hattem
REFRESH-INTERVAL;VALUE=DURATION:PT1H
X-Robots-Tag:noindex
X-PUBLISHED-TTL:PT1H
BEGIN:VTIMEZONE
TZID:Europe/Amsterdam
BEGIN:DAYLIGHT
TZOFFSETFROM:+0100
TZOFFSETTO:+0200
TZNAME:CEST
DTSTART:20240331T010000
END:DAYLIGHT
BEGIN:STANDARD
TZOFFSETFROM:+0200
TZOFFSETTO:+0100
TZNAME:CET
DTSTART:20241027T010000
END:STANDARD
BEGIN:DAYLIGHT
TZOFFSETFROM:+0100
TZOFFSETTO:+0200
TZNAME:CEST
DTSTART:20250330T010000
END:DAYLIGHT
BEGIN:STANDARD
TZOFFSETFROM:+0200
TZOFFSETTO:+0100
TZNAME:CET
DTSTART:20251026T010000
END:STANDARD
BEGIN:DAYLIGHT
TZOFFSETFROM:+0100
TZOFFSETTO:+0200
TZNAME:CEST
DTSTART:20260329T010000
END:DAYLIGHT
BEGIN:STANDARD
TZOFFSETFROM:+0200
TZOFFSETTO:+0100
TZNAME:CET
DTSTART:20261025T010000
END:STANDARD
END:VTIMEZONE
BEGIN:VEVENT
DTSTART;TZID=Europe/Amsterdam:20250917T160000
DTEND;TZID=Europe/Amsterdam:20250917T210000
DTSTAMP:20260421T175608
CREATED:20250908T142533Z
LAST-MODIFIED:20250908T143846Z
UID:1964-1758124800-1758142800@ondernemendhattem.nl
SUMMARY:Pitch & Putt
DESCRIPTION:Samen met Bedrijven Contact Heerde & Bedrijvenkring Oldebroek organiseren wij op woensdag 17 september een gezellige middag!\nJe bent van harte welkom om een ronde Pitch & Putt te spelen en de dag af te sluiten met een etentje. \nGraag aanmelden via onderstaande link vóór woensdag 10 september. \nPitch & Putt ⛳️ \nAanmelden: \nhttps://forms.office.com/e/07yHPRq5kt \n\nAankomende activiteiten: \nVrij 5 sept – 07.00 uur – Ontbijtbijeenkomst \nWo 17 sept – 16.00 uur – Pitch & Putt \nVr 3 okt – 16.00 uur – VrijMiBo
URL:https://ondernemendhattem.nl/agenda/pitch-putt/
LOCATION:pitch en putt\, Kromme Allee 5\, Heerde\, Gelderland\, 8181 NV\, Netherlands
ORGANIZER;CN="Ondernemend Hattem":MAILTO:info@ondernemendhattem.nl
END:VEVENT
BEGIN:VEVENT
DTSTART;TZID=Europe/Amsterdam:20250905T070000
DTEND;TZID=Europe/Amsterdam:20250905T090000
DTSTAMP:20260421T175608
CREATED:20250908T141856Z
LAST-MODIFIED:20250908T142120Z
UID:1960-1757055600-1757062800@ondernemendhattem.nl
SUMMARY:Ontbijtbijeenkomst
DESCRIPTION:Graag nodigen we jullie uit voor de aftrap van het aankomende netwerkseizoen! \nTijdens deze ontbijtbijeenkomst vertelt Merijn\, directeur van het Voerman Stadsmuseum\, meer over het museum en de wens om nauwer samen te werken met ondernemers uit de regio. \nWe kijken ernaar uit om je te zien! Aanmelden kan tot woensdag 3 september a.s. via onderstaande link. \nONTBIJTBIJEENKOMST ☕️ \nAanmelden :    https://forms.office.com/e/j72Rhr3DnS \n\nActiviteiten komende periode: \nVr 5 sept – 07:00 uur: Ontbijtbijeenkomst  \nWo 17 sept – 16:00 uur: Pitch & Putt met bedrijvenkring Heerde (aanmeldlink) \nVr 3 okt – 16:00: VrijMiBo \n 
URL:https://ondernemendhattem.nl/agenda/ontbijtbijeenkomst-5-september/
LOCATION:Vadesto\, De Bleek 3\, Hattem\, Gelderland\, Netherlands
END:VEVENT
BEGIN:VEVENT
DTSTART;TZID=Europe/Amsterdam:20250627T150000
DTEND;TZID=Europe/Amsterdam:20250627T190000
DTSTAMP:20260421T175608
CREATED:20250908T142920Z
LAST-MODIFIED:20250908T142920Z
UID:1969-1751036400-1751050800@ondernemendhattem.nl
SUMMARY:Afsluiting netwerkseizoen
DESCRIPTION:Luid de zomer in op 27 juni\nOp vrijdag 27 juni sluiten we dit netwerkseizoen af met een gezellig evenement. \nGraag nodigen we jullie uit voor de afsluiting van het seizoen.\nDit doen we op vrijdag 27 juni met een gezellige Escape Tour door Hattem\, gevolgd door een hapje eten bij Sec Marché. \nBen jij er ook bij? Aanmelden kan nog tot uiterlijk 16 juni via deze link: https://forms.office.com/e/s1RMJDw1Gk \nProgramma \n15:00 uur           Ontvangst bij Sec Marché (Ridderstraat 28\, Hattem) \n15:30 uur           Start City Escape Tour \n17:30 uur           Hapje eten bij Sec Marché
URL:https://ondernemendhattem.nl/agenda/afsluiting-netwerkseizoen/
LOCATION:Ridderstraat 28\, Ridderstraat 28\, Hattem\, Netherlands
ORGANIZER;CN="Ondernemend Hattem":MAILTO:info@ondernemendhattem.nl
END:VEVENT
END:VCALENDAR