BEGIN:VCALENDAR
VERSION:2.0
PRODID:-//Ondernemend Hattem - ECPv6.15.20//NONSGML v1.0//EN
CALSCALE:GREGORIAN
METHOD:PUBLISH
X-WR-CALNAME:Ondernemend Hattem
X-ORIGINAL-URL:https://ondernemendhattem.nl
X-WR-CALDESC:Evenementen voor Ondernemend Hattem
REFRESH-INTERVAL;VALUE=DURATION:PT1H
X-Robots-Tag:noindex
X-PUBLISHED-TTL:PT1H
BEGIN:VTIMEZONE
TZID:Europe/Amsterdam
BEGIN:DAYLIGHT
TZOFFSETFROM:+0100
TZOFFSETTO:+0200
TZNAME:CEST
DTSTART:20240331T010000
END:DAYLIGHT
BEGIN:STANDARD
TZOFFSETFROM:+0200
TZOFFSETTO:+0100
TZNAME:CET
DTSTART:20241027T010000
END:STANDARD
BEGIN:DAYLIGHT
TZOFFSETFROM:+0100
TZOFFSETTO:+0200
TZNAME:CEST
DTSTART:20250330T010000
END:DAYLIGHT
BEGIN:STANDARD
TZOFFSETFROM:+0200
TZOFFSETTO:+0100
TZNAME:CET
DTSTART:20251026T010000
END:STANDARD
BEGIN:DAYLIGHT
TZOFFSETFROM:+0100
TZOFFSETTO:+0200
TZNAME:CEST
DTSTART:20260329T010000
END:DAYLIGHT
BEGIN:STANDARD
TZOFFSETFROM:+0200
TZOFFSETTO:+0100
TZNAME:CET
DTSTART:20261025T010000
END:STANDARD
END:VTIMEZONE
BEGIN:VEVENT
DTSTART;TZID=Europe/Amsterdam:20251107T070000
DTEND;TZID=Europe/Amsterdam:20251107T090000
DTSTAMP:20260421T123310
CREATED:20250919T093259Z
LAST-MODIFIED:20251027T150651Z
UID:2001-1762498800-1762506000@ondernemendhattem.nl
SUMMARY:Ontbijtbijeenkomst
DESCRIPTION:Graag nodigen we jullie uit voor het volgende netwerkontbijt!  \nTijdens deze ontbijtbijeenkomst vertelt Margriet Brouwer\, wethouder gemeente Hattem\, meer over het pas gelanceerde Bedrijvenregister. \nWe kijken ernaar uit om je te zien! Aanmelden kan tot woensdag 5 november a.s. via onderstaande link. \nONTBIJTBIJEENKOMST ☕️ \nDatum: Vrijdag 7 november\nTijd: 07.00 – 09:00 uur\nLocatie: Vadesto ( De Bleek 3\, Hattem ) \nAanmelden :    https://forms.office.com/e/xL82t5bdZH \n\nActiviteiten komende periode: \nDo 20 nov – 19.30 uur: Ondernemersavond incl. uitreiking Hattem Impact Award [aanmeldlink] \nVr 12 dec – 16.00 uur: Kerstborrel 🎄 \nVr 16 jan – 19.00 uur: Nieuwjaarsborrel \nDo 29 jan – 15.00 uur: Bedrijfsbezoek
URL:https://ondernemendhattem.nl/agenda/ontbijtbijeenkomst/
LOCATION:Vadesto\, De Bleek 3\, Hattem\, Gelderland\, Netherlands
ATTACH;FMTTYPE=image/png:https://ondernemendhattem.nl/wp-content/uploads/2025/02/ontbijtsessie.png
ORGANIZER;CN="Ondernemend Hattem":MAILTO:info@ondernemendhattem.nl
END:VEVENT
END:VCALENDAR